BEGIN:VCALENDAR
VERSION:2.0
PRODID:-//Fresco School OnLine Apprentice ® - ECPv6.15.20//NONSGML v1.0//EN
CALSCALE:GREGORIAN
METHOD:PUBLISH
X-WR-CALNAME:Fresco School OnLine Apprentice ®
X-ORIGINAL-URL:https://frescoschool.net
X-WR-CALDESC:Events for Fresco School OnLine Apprentice ®
REFRESH-INTERVAL;VALUE=DURATION:PT1H
X-Robots-Tag:noindex
X-PUBLISHED-TTL:PT1H
BEGIN:VTIMEZONE
TZID:America/Los_Angeles
BEGIN:DAYLIGHT
TZOFFSETFROM:-0800
TZOFFSETTO:-0700
TZNAME:PDT
DTSTART:20240310T100000
END:DAYLIGHT
BEGIN:STANDARD
TZOFFSETFROM:-0700
TZOFFSETTO:-0800
TZNAME:PST
DTSTART:20241103T090000
END:STANDARD
BEGIN:DAYLIGHT
TZOFFSETFROM:-0800
TZOFFSETTO:-0700
TZNAME:PDT
DTSTART:20250309T100000
END:DAYLIGHT
BEGIN:STANDARD
TZOFFSETFROM:-0700
TZOFFSETTO:-0800
TZNAME:PST
DTSTART:20251102T090000
END:STANDARD
BEGIN:DAYLIGHT
TZOFFSETFROM:-0800
TZOFFSETTO:-0700
TZNAME:PDT
DTSTART:20260308T100000
END:DAYLIGHT
BEGIN:STANDARD
TZOFFSETFROM:-0700
TZOFFSETTO:-0800
TZNAME:PST
DTSTART:20261101T090000
END:STANDARD
BEGIN:DAYLIGHT
TZOFFSETFROM:-0800
TZOFFSETTO:-0700
TZNAME:PDT
DTSTART:20270314T100000
END:DAYLIGHT
BEGIN:STANDARD
TZOFFSETFROM:-0700
TZOFFSETTO:-0800
TZNAME:PST
DTSTART:20271107T090000
END:STANDARD
END:VTIMEZONE
BEGIN:VEVENT
DTSTART;TZID=America/Los_Angeles:20260129T090000
DTEND;TZID=America/Los_Angeles:20260129T143000
DTSTAMP:20260425T143107
CREATED:20251105T014913Z
LAST-MODIFIED:20251130T050415Z
UID:10000242-1769677200-1769697000@frescoschool.net
SUMMARY:Fresco and Sgraffito Units in session
DESCRIPTION:Fresco and Sgraffito Units in session – private class units\, to join/schedule go here or contact us
URL:https://frescoschool.net/event/fresco-and-sgraffito-units-in-session/2026-01-29/
LOCATION:Live from FS Studio\, CA\, United States
CATEGORIES:FSMembers Only
END:VEVENT
BEGIN:VEVENT
DTSTART;TZID=America/Los_Angeles:20260128T090000
DTEND;TZID=America/Los_Angeles:20260128T143000
DTSTAMP:20260425T143107
CREATED:20251105T014913Z
LAST-MODIFIED:20251130T050415Z
UID:10000158-1769590800-1769610600@frescoschool.net
SUMMARY:Fresco and Sgraffito Units in session
DESCRIPTION:Fresco and Sgraffito Units in session – private class units\, to join/schedule go here or contact us
URL:https://frescoschool.net/event/fresco-and-sgraffito-units-in-session/2026-01-28/
LOCATION:Live from FS Studio\, CA\, United States
CATEGORIES:FSMembers Only
END:VEVENT
BEGIN:VEVENT
DTSTART;TZID=America/Los_Angeles:20260127T090000
DTEND;TZID=America/Los_Angeles:20260127T143000
DTSTAMP:20260425T143107
CREATED:20251105T014913Z
LAST-MODIFIED:20251130T050415Z
UID:10000241-1769504400-1769524200@frescoschool.net
SUMMARY:Fresco and Sgraffito Units in session
DESCRIPTION:Fresco and Sgraffito Units in session – private class units\, to join/schedule go here or contact us
URL:https://frescoschool.net/event/fresco-and-sgraffito-units-in-session/2026-01-27/
LOCATION:Live from FS Studio\, CA\, United States
CATEGORIES:FSMembers Only
END:VEVENT
BEGIN:VEVENT
DTSTART;TZID=America/Los_Angeles:20260122T090000
DTEND;TZID=America/Los_Angeles:20260122T143000
DTSTAMP:20260425T143107
CREATED:20251105T014913Z
LAST-MODIFIED:20251130T050415Z
UID:10000240-1769072400-1769092200@frescoschool.net
SUMMARY:Fresco and Sgraffito Units in session
DESCRIPTION:Fresco and Sgraffito Units in session – private class units\, to join/schedule go here or contact us
URL:https://frescoschool.net/event/fresco-and-sgraffito-units-in-session/2026-01-22/
LOCATION:Live from FS Studio\, CA\, United States
CATEGORIES:FSMembers Only
END:VEVENT
BEGIN:VEVENT
DTSTART;TZID=America/Los_Angeles:20260121T090000
DTEND;TZID=America/Los_Angeles:20260121T143000
DTSTAMP:20260425T143107
CREATED:20251105T014913Z
LAST-MODIFIED:20251130T050415Z
UID:10000155-1768986000-1769005800@frescoschool.net
SUMMARY:Fresco and Sgraffito Units in session
DESCRIPTION:Fresco and Sgraffito Units in session – private class units\, to join/schedule go here or contact us
URL:https://frescoschool.net/event/fresco-and-sgraffito-units-in-session/2026-01-21/
LOCATION:Live from FS Studio\, CA\, United States
CATEGORIES:FSMembers Only
END:VEVENT
BEGIN:VEVENT
DTSTART;TZID=America/Los_Angeles:20260120T090000
DTEND;TZID=America/Los_Angeles:20260120T143000
DTSTAMP:20260425T143107
CREATED:20251105T014913Z
LAST-MODIFIED:20251130T050415Z
UID:10000239-1768899600-1768919400@frescoschool.net
SUMMARY:Fresco and Sgraffito Units in session
DESCRIPTION:Fresco and Sgraffito Units in session – private class units\, to join/schedule go here or contact us
URL:https://frescoschool.net/event/fresco-and-sgraffito-units-in-session/2026-01-20/
LOCATION:Live from FS Studio\, CA\, United States
CATEGORIES:FSMembers Only
END:VEVENT
BEGIN:VEVENT
DTSTART;TZID=America/Los_Angeles:20260115T090000
DTEND;TZID=America/Los_Angeles:20260115T143000
DTSTAMP:20260425T143107
CREATED:20251105T014913Z
LAST-MODIFIED:20251130T050415Z
UID:10000238-1768467600-1768487400@frescoschool.net
SUMMARY:Fresco and Sgraffito Units in session
DESCRIPTION:Fresco and Sgraffito Units in session – private class units\, to join/schedule go here or contact us
URL:https://frescoschool.net/event/fresco-and-sgraffito-units-in-session/2026-01-15/
LOCATION:Live from FS Studio\, CA\, United States
CATEGORIES:FSMembers Only
END:VEVENT
BEGIN:VEVENT
DTSTART;TZID=America/Los_Angeles:20260114T090000
DTEND;TZID=America/Los_Angeles:20260114T143000
DTSTAMP:20260425T143107
CREATED:20251105T014913Z
LAST-MODIFIED:20251130T050415Z
UID:10000152-1768381200-1768401000@frescoschool.net
SUMMARY:Fresco and Sgraffito Units in session
DESCRIPTION:Fresco and Sgraffito Units in session – private class units\, to join/schedule go here or contact us
URL:https://frescoschool.net/event/fresco-and-sgraffito-units-in-session/2026-01-14/
LOCATION:Live from FS Studio\, CA\, United States
CATEGORIES:FSMembers Only
END:VEVENT
BEGIN:VEVENT
DTSTART;TZID=America/Los_Angeles:20260113T090000
DTEND;TZID=America/Los_Angeles:20260113T143000
DTSTAMP:20260425T143107
CREATED:20251105T014913Z
LAST-MODIFIED:20251130T050415Z
UID:10000237-1768294800-1768314600@frescoschool.net
SUMMARY:Fresco and Sgraffito Units in session
DESCRIPTION:Fresco and Sgraffito Units in session – private class units\, to join/schedule go here or contact us
URL:https://frescoschool.net/event/fresco-and-sgraffito-units-in-session/2026-01-13/
LOCATION:Live from FS Studio\, CA\, United States
CATEGORIES:FSMembers Only
END:VEVENT
BEGIN:VEVENT
DTSTART;TZID=America/Los_Angeles:20260108T090000
DTEND;TZID=America/Los_Angeles:20260108T143000
DTSTAMP:20260425T143107
CREATED:20251105T014913Z
LAST-MODIFIED:20251130T050415Z
UID:10000236-1767862800-1767882600@frescoschool.net
SUMMARY:Fresco and Sgraffito Units in session
DESCRIPTION:Fresco and Sgraffito Units in session – private class units\, to join/schedule go here or contact us
URL:https://frescoschool.net/event/fresco-and-sgraffito-units-in-session/2026-01-08/
LOCATION:Live from FS Studio\, CA\, United States
CATEGORIES:FSMembers Only
END:VEVENT
BEGIN:VEVENT
DTSTART;TZID=America/Los_Angeles:20260107T090000
DTEND;TZID=America/Los_Angeles:20260107T143000
DTSTAMP:20260425T143107
CREATED:20251105T014913Z
LAST-MODIFIED:20251130T050415Z
UID:10000149-1767776400-1767796200@frescoschool.net
SUMMARY:Fresco and Sgraffito Units in session
DESCRIPTION:Fresco and Sgraffito Units in session – private class units\, to join/schedule go here or contact us
URL:https://frescoschool.net/event/fresco-and-sgraffito-units-in-session/2026-01-07/
LOCATION:Live from FS Studio\, CA\, United States
CATEGORIES:FSMembers Only
END:VEVENT
BEGIN:VEVENT
DTSTART;TZID=America/Los_Angeles:20260106T090000
DTEND;TZID=America/Los_Angeles:20260106T143000
DTSTAMP:20260425T143107
CREATED:20251105T014913Z
LAST-MODIFIED:20251130T050415Z
UID:10000235-1767690000-1767709800@frescoschool.net
SUMMARY:Fresco and Sgraffito Units in session
DESCRIPTION:Fresco and Sgraffito Units in session – private class units\, to join/schedule go here or contact us
URL:https://frescoschool.net/event/fresco-and-sgraffito-units-in-session/2026-01-06/
LOCATION:Live from FS Studio\, CA\, United States
CATEGORIES:FSMembers Only
END:VEVENT
BEGIN:VEVENT
DTSTART;TZID=America/Los_Angeles:20260101T090000
DTEND;TZID=America/Los_Angeles:20260101T143000
DTSTAMP:20260425T143107
CREATED:20251105T014913Z
LAST-MODIFIED:20251130T050415Z
UID:10000234-1767258000-1767277800@frescoschool.net
SUMMARY:Fresco and Sgraffito Units in session
DESCRIPTION:Fresco and Sgraffito Units in session – private class units\, to join/schedule go here or contact us
URL:https://frescoschool.net/event/fresco-and-sgraffito-units-in-session/2026-01-01/
LOCATION:Live from FS Studio\, CA\, United States
CATEGORIES:FSMembers Only
END:VEVENT
BEGIN:VEVENT
DTSTART;TZID=America/Los_Angeles:20251231T090000
DTEND;TZID=America/Los_Angeles:20251231T143000
DTSTAMP:20260425T143107
CREATED:20251105T014913Z
LAST-MODIFIED:20251130T050415Z
UID:10000146-1767171600-1767191400@frescoschool.net
SUMMARY:Fresco and Sgraffito Units in session
DESCRIPTION:Fresco and Sgraffito Units in session – private class units\, to join/schedule go here or contact us
URL:https://frescoschool.net/event/fresco-and-sgraffito-units-in-session/2025-12-31/
LOCATION:Live from FS Studio\, CA\, United States
CATEGORIES:FSMembers Only
END:VEVENT
BEGIN:VEVENT
DTSTART;TZID=America/Los_Angeles:20251230T090000
DTEND;TZID=America/Los_Angeles:20251230T143000
DTSTAMP:20260425T143107
CREATED:20251105T014913Z
LAST-MODIFIED:20251130T050415Z
UID:10000233-1767085200-1767105000@frescoschool.net
SUMMARY:Fresco and Sgraffito Units in session
DESCRIPTION:Fresco and Sgraffito Units in session – private class units\, to join/schedule go here or contact us
URL:https://frescoschool.net/event/fresco-and-sgraffito-units-in-session/2025-12-30/
LOCATION:Live from FS Studio\, CA\, United States
CATEGORIES:FSMembers Only
END:VEVENT
BEGIN:VEVENT
DTSTART;TZID=America/Los_Angeles:20251225T090000
DTEND;TZID=America/Los_Angeles:20251225T143000
DTSTAMP:20260425T143107
CREATED:20251105T014913Z
LAST-MODIFIED:20251130T050415Z
UID:10000232-1766653200-1766673000@frescoschool.net
SUMMARY:Fresco and Sgraffito Units in session
DESCRIPTION:Fresco and Sgraffito Units in session – private class units\, to join/schedule go here or contact us
URL:https://frescoschool.net/event/fresco-and-sgraffito-units-in-session/2025-12-25/
LOCATION:Live from FS Studio\, CA\, United States
CATEGORIES:FSMembers Only
END:VEVENT
BEGIN:VEVENT
DTSTART;TZID=America/Los_Angeles:20251224T090000
DTEND;TZID=America/Los_Angeles:20251224T143000
DTSTAMP:20260425T143107
CREATED:20251105T014913Z
LAST-MODIFIED:20251130T050415Z
UID:10000143-1766566800-1766586600@frescoschool.net
SUMMARY:Fresco and Sgraffito Units in session
DESCRIPTION:Fresco and Sgraffito Units in session – private class units\, to join/schedule go here or contact us
URL:https://frescoschool.net/event/fresco-and-sgraffito-units-in-session/2025-12-24/
LOCATION:Live from FS Studio\, CA\, United States
CATEGORIES:FSMembers Only
END:VEVENT
BEGIN:VEVENT
DTSTART;TZID=America/Los_Angeles:20251223T090000
DTEND;TZID=America/Los_Angeles:20251223T143000
DTSTAMP:20260425T143107
CREATED:20251105T014913Z
LAST-MODIFIED:20251130T050415Z
UID:10000231-1766480400-1766500200@frescoschool.net
SUMMARY:Fresco and Sgraffito Units in session
DESCRIPTION:Fresco and Sgraffito Units in session – private class units\, to join/schedule go here or contact us
URL:https://frescoschool.net/event/fresco-and-sgraffito-units-in-session/2025-12-23/
LOCATION:Live from FS Studio\, CA\, United States
CATEGORIES:FSMembers Only
END:VEVENT
BEGIN:VEVENT
DTSTART;TZID=America/Los_Angeles:20251218T090000
DTEND;TZID=America/Los_Angeles:20251218T143000
DTSTAMP:20260425T143107
CREATED:20251105T014913Z
LAST-MODIFIED:20251130T050415Z
UID:10000230-1766048400-1766068200@frescoschool.net
SUMMARY:Fresco and Sgraffito Units in session
DESCRIPTION:Fresco and Sgraffito Units in session – private class units\, to join/schedule go here or contact us
URL:https://frescoschool.net/event/fresco-and-sgraffito-units-in-session/2025-12-18/
LOCATION:Live from FS Studio\, CA\, United States
CATEGORIES:FSMembers Only
END:VEVENT
BEGIN:VEVENT
DTSTART;TZID=America/Los_Angeles:20251217T090000
DTEND;TZID=America/Los_Angeles:20251217T143000
DTSTAMP:20260425T143107
CREATED:20251105T014913Z
LAST-MODIFIED:20251130T050415Z
UID:10000140-1765962000-1765981800@frescoschool.net
SUMMARY:Fresco and Sgraffito Units in session
DESCRIPTION:Fresco and Sgraffito Units in session – private class units\, to join/schedule go here or contact us
URL:https://frescoschool.net/event/fresco-and-sgraffito-units-in-session/2025-12-17/
LOCATION:Live from FS Studio\, CA\, United States
CATEGORIES:FSMembers Only
END:VEVENT
BEGIN:VEVENT
DTSTART;TZID=America/Los_Angeles:20251216T090000
DTEND;TZID=America/Los_Angeles:20251216T143000
DTSTAMP:20260425T143107
CREATED:20251105T014913Z
LAST-MODIFIED:20251130T050415Z
UID:10000229-1765875600-1765895400@frescoschool.net
SUMMARY:Fresco and Sgraffito Units in session
DESCRIPTION:Fresco and Sgraffito Units in session – private class units\, to join/schedule go here or contact us
URL:https://frescoschool.net/event/fresco-and-sgraffito-units-in-session/2025-12-16/
LOCATION:Live from FS Studio\, CA\, United States
CATEGORIES:FSMembers Only
END:VEVENT
BEGIN:VEVENT
DTSTART;TZID=America/Los_Angeles:20251211T090000
DTEND;TZID=America/Los_Angeles:20251211T143000
DTSTAMP:20260425T143107
CREATED:20251105T014913Z
LAST-MODIFIED:20251130T050415Z
UID:10000228-1765443600-1765463400@frescoschool.net
SUMMARY:Fresco and Sgraffito Units in session
DESCRIPTION:Fresco and Sgraffito Units in session – private class units\, to join/schedule go here or contact us
URL:https://frescoschool.net/event/fresco-and-sgraffito-units-in-session/2025-12-11/
LOCATION:Live from FS Studio\, CA\, United States
CATEGORIES:FSMembers Only
END:VEVENT
BEGIN:VEVENT
DTSTART;TZID=America/Los_Angeles:20251210T090000
DTEND;TZID=America/Los_Angeles:20251210T143000
DTSTAMP:20260425T143107
CREATED:20251105T014913Z
LAST-MODIFIED:20251130T050415Z
UID:10000137-1765357200-1765377000@frescoschool.net
SUMMARY:Fresco and Sgraffito Units in session
DESCRIPTION:Fresco and Sgraffito Units in session – private class units\, to join/schedule go here or contact us
URL:https://frescoschool.net/event/fresco-and-sgraffito-units-in-session/2025-12-10/
LOCATION:Live from FS Studio\, CA\, United States
CATEGORIES:FSMembers Only
END:VEVENT
BEGIN:VEVENT
DTSTART;TZID=America/Los_Angeles:20251209T090000
DTEND;TZID=America/Los_Angeles:20251209T143000
DTSTAMP:20260425T143107
CREATED:20251105T014913Z
LAST-MODIFIED:20251130T050415Z
UID:10000227-1765270800-1765290600@frescoschool.net
SUMMARY:Fresco and Sgraffito Units in session
DESCRIPTION:Fresco and Sgraffito Units in session – private class units\, to join/schedule go here or contact us
URL:https://frescoschool.net/event/fresco-and-sgraffito-units-in-session/2025-12-09/
LOCATION:Live from FS Studio\, CA\, United States
CATEGORIES:FSMembers Only
END:VEVENT
BEGIN:VEVENT
DTSTART;TZID=America/Los_Angeles:20251204T090000
DTEND;TZID=America/Los_Angeles:20251204T143000
DTSTAMP:20260425T143107
CREATED:20251105T014913Z
LAST-MODIFIED:20251130T050415Z
UID:10000226-1764838800-1764858600@frescoschool.net
SUMMARY:Fresco and Sgraffito Units in session
DESCRIPTION:Fresco and Sgraffito Units in session – private class units\, to join/schedule go here or contact us
URL:https://frescoschool.net/event/fresco-and-sgraffito-units-in-session/2025-12-04/
LOCATION:Live from FS Studio\, CA\, United States
CATEGORIES:FSMembers Only
END:VEVENT
BEGIN:VEVENT
DTSTART;TZID=America/Los_Angeles:20251203T090000
DTEND;TZID=America/Los_Angeles:20251203T143000
DTSTAMP:20260425T143107
CREATED:20251105T014913Z
LAST-MODIFIED:20251130T050415Z
UID:10000134-1764752400-1764772200@frescoschool.net
SUMMARY:Fresco and Sgraffito Units in session
DESCRIPTION:Fresco and Sgraffito Units in session – private class units\, to join/schedule go here or contact us
URL:https://frescoschool.net/event/fresco-and-sgraffito-units-in-session/2025-12-03/
LOCATION:Live from FS Studio\, CA\, United States
CATEGORIES:FSMembers Only
END:VEVENT
BEGIN:VEVENT
DTSTART;TZID=America/Los_Angeles:20251202T090000
DTEND;TZID=America/Los_Angeles:20251202T143000
DTSTAMP:20260425T143107
CREATED:20251105T014913Z
LAST-MODIFIED:20251130T050415Z
UID:10000225-1764666000-1764685800@frescoschool.net
SUMMARY:Fresco and Sgraffito Units in session
DESCRIPTION:Fresco and Sgraffito Units in session – private class units\, to join/schedule go here or contact us
URL:https://frescoschool.net/event/fresco-and-sgraffito-units-in-session/2025-12-02/
LOCATION:Live from FS Studio\, CA\, United States
CATEGORIES:FSMembers Only
END:VEVENT
BEGIN:VEVENT
DTSTART;TZID=America/Los_Angeles:20251127T090000
DTEND;TZID=America/Los_Angeles:20251127T143000
DTSTAMP:20260425T143107
CREATED:20251105T014913Z
LAST-MODIFIED:20251130T050415Z
UID:10000224-1764234000-1764253800@frescoschool.net
SUMMARY:Fresco and Sgraffito Units in session
DESCRIPTION:Fresco and Sgraffito Units in session – private class units\, to join/schedule go here or contact us
URL:https://frescoschool.net/event/fresco-and-sgraffito-units-in-session/2025-11-27/
LOCATION:Live from FS Studio\, CA\, United States
CATEGORIES:FSMembers Only
END:VEVENT
BEGIN:VEVENT
DTSTART;TZID=America/Los_Angeles:20251126T090000
DTEND;TZID=America/Los_Angeles:20251126T143000
DTSTAMP:20260425T143107
CREATED:20251105T014913Z
LAST-MODIFIED:20251130T050415Z
UID:10000131-1764147600-1764167400@frescoschool.net
SUMMARY:Fresco and Sgraffito Units in session
DESCRIPTION:Fresco and Sgraffito Units in session – private class units\, to join/schedule go here or contact us
URL:https://frescoschool.net/event/fresco-and-sgraffito-units-in-session/2025-11-26/
LOCATION:Live from FS Studio\, CA\, United States
CATEGORIES:FSMembers Only
END:VEVENT
BEGIN:VEVENT
DTSTART;TZID=America/Los_Angeles:20251125T090000
DTEND;TZID=America/Los_Angeles:20251125T143000
DTSTAMP:20260425T143107
CREATED:20251105T014913Z
LAST-MODIFIED:20251130T050415Z
UID:10000223-1764061200-1764081000@frescoschool.net
SUMMARY:Fresco and Sgraffito Units in session
DESCRIPTION:Fresco and Sgraffito Units in session – private class units\, to join/schedule go here or contact us
URL:https://frescoschool.net/event/fresco-and-sgraffito-units-in-session/2025-11-25/
LOCATION:Live from FS Studio\, CA\, United States
CATEGORIES:FSMembers Only
END:VEVENT
END:VCALENDAR