BEGIN:VCALENDAR
VERSION:2.0
PRODID:-//Fresco School OnLine Apprentice ® - ECPv6.15.20//NONSGML v1.0//EN
CALSCALE:GREGORIAN
METHOD:PUBLISH
X-WR-CALNAME:Fresco School OnLine Apprentice ®
X-ORIGINAL-URL:https://frescoschool.net
X-WR-CALDESC:Events for Fresco School OnLine Apprentice ®
REFRESH-INTERVAL;VALUE=DURATION:PT1H
X-Robots-Tag:noindex
X-PUBLISHED-TTL:PT1H
BEGIN:VTIMEZONE
TZID:America/Los_Angeles
BEGIN:DAYLIGHT
TZOFFSETFROM:-0800
TZOFFSETTO:-0700
TZNAME:PDT
DTSTART:20250309T100000
END:DAYLIGHT
BEGIN:STANDARD
TZOFFSETFROM:-0700
TZOFFSETTO:-0800
TZNAME:PST
DTSTART:20251102T090000
END:STANDARD
BEGIN:DAYLIGHT
TZOFFSETFROM:-0800
TZOFFSETTO:-0700
TZNAME:PDT
DTSTART:20260308T100000
END:DAYLIGHT
BEGIN:STANDARD
TZOFFSETFROM:-0700
TZOFFSETTO:-0800
TZNAME:PST
DTSTART:20261101T090000
END:STANDARD
BEGIN:DAYLIGHT
TZOFFSETFROM:-0800
TZOFFSETTO:-0700
TZNAME:PDT
DTSTART:20270314T100000
END:DAYLIGHT
BEGIN:STANDARD
TZOFFSETFROM:-0700
TZOFFSETTO:-0800
TZNAME:PST
DTSTART:20271107T090000
END:STANDARD
END:VTIMEZONE
BEGIN:VEVENT
DTSTART;TZID=America/Los_Angeles:20260428T090000
DTEND;TZID=America/Los_Angeles:20260428T143000
DTSTAMP:20260425T082740
CREATED:20251105T014913Z
LAST-MODIFIED:20251130T050415Z
UID:10000267-1777366800-1777386600@frescoschool.net
SUMMARY:Fresco and Sgraffito Units in session
DESCRIPTION:Fresco and Sgraffito Units in session – private class units\, to join/schedule go here or contact us
URL:https://frescoschool.net/event/fresco-and-sgraffito-units-in-session/2026-04-28/
LOCATION:Live from FS Studio\, CA\, United States
CATEGORIES:FSMembers Only
END:VEVENT
BEGIN:VEVENT
DTSTART;TZID=America/Los_Angeles:20260429T090000
DTEND;TZID=America/Los_Angeles:20260429T143000
DTSTAMP:20260425T082740
CREATED:20251105T014913Z
LAST-MODIFIED:20251130T050415Z
UID:10000197-1777453200-1777473000@frescoschool.net
SUMMARY:Fresco and Sgraffito Units in session
DESCRIPTION:Fresco and Sgraffito Units in session – private class units\, to join/schedule go here or contact us
URL:https://frescoschool.net/event/fresco-and-sgraffito-units-in-session/2026-04-29/
LOCATION:Live from FS Studio\, CA\, United States
CATEGORIES:FSMembers Only
END:VEVENT
BEGIN:VEVENT
DTSTART;TZID=America/Los_Angeles:20260430T090000
DTEND;TZID=America/Los_Angeles:20260430T143000
DTSTAMP:20260425T082740
CREATED:20251105T014913Z
LAST-MODIFIED:20251130T050415Z
UID:10000268-1777539600-1777559400@frescoschool.net
SUMMARY:Fresco and Sgraffito Units in session
DESCRIPTION:Fresco and Sgraffito Units in session – private class units\, to join/schedule go here or contact us
URL:https://frescoschool.net/event/fresco-and-sgraffito-units-in-session/2026-04-30/
LOCATION:Live from FS Studio\, CA\, United States
CATEGORIES:FSMembers Only
END:VEVENT
BEGIN:VEVENT
DTSTART;TZID=America/Los_Angeles:20260505T090000
DTEND;TZID=America/Los_Angeles:20260505T143000
DTSTAMP:20260425T082740
CREATED:20251105T014913Z
LAST-MODIFIED:20251130T050415Z
UID:10000269-1777971600-1777991400@frescoschool.net
SUMMARY:Fresco and Sgraffito Units in session
DESCRIPTION:Fresco and Sgraffito Units in session – private class units\, to join/schedule go here or contact us
URL:https://frescoschool.net/event/fresco-and-sgraffito-units-in-session/2026-05-05/
LOCATION:Live from FS Studio\, CA\, United States
CATEGORIES:FSMembers Only
END:VEVENT
BEGIN:VEVENT
DTSTART;TZID=America/Los_Angeles:20260506T090000
DTEND;TZID=America/Los_Angeles:20260506T143000
DTSTAMP:20260425T082740
CREATED:20251105T014913Z
LAST-MODIFIED:20251130T050415Z
UID:10000200-1778058000-1778077800@frescoschool.net
SUMMARY:Fresco and Sgraffito Units in session
DESCRIPTION:Fresco and Sgraffito Units in session – private class units\, to join/schedule go here or contact us
URL:https://frescoschool.net/event/fresco-and-sgraffito-units-in-session/2026-05-06/
LOCATION:Live from FS Studio\, CA\, United States
CATEGORIES:FSMembers Only
END:VEVENT
BEGIN:VEVENT
DTSTART;TZID=America/Los_Angeles:20260507T090000
DTEND;TZID=America/Los_Angeles:20260507T143000
DTSTAMP:20260425T082740
CREATED:20251105T014913Z
LAST-MODIFIED:20251130T050415Z
UID:10000270-1778144400-1778164200@frescoschool.net
SUMMARY:Fresco and Sgraffito Units in session
DESCRIPTION:Fresco and Sgraffito Units in session – private class units\, to join/schedule go here or contact us
URL:https://frescoschool.net/event/fresco-and-sgraffito-units-in-session/2026-05-07/
LOCATION:Live from FS Studio\, CA\, United States
CATEGORIES:FSMembers Only
END:VEVENT
BEGIN:VEVENT
DTSTART;TZID=America/Los_Angeles:20260512T090000
DTEND;TZID=America/Los_Angeles:20260512T143000
DTSTAMP:20260425T082740
CREATED:20251105T014913Z
LAST-MODIFIED:20251130T050415Z
UID:10000271-1778576400-1778596200@frescoschool.net
SUMMARY:Fresco and Sgraffito Units in session
DESCRIPTION:Fresco and Sgraffito Units in session – private class units\, to join/schedule go here or contact us
URL:https://frescoschool.net/event/fresco-and-sgraffito-units-in-session/2026-05-12/
LOCATION:Live from FS Studio\, CA\, United States
CATEGORIES:FSMembers Only
END:VEVENT
BEGIN:VEVENT
DTSTART;TZID=America/Los_Angeles:20260513T090000
DTEND;TZID=America/Los_Angeles:20260513T143000
DTSTAMP:20260425T082740
CREATED:20251105T014913Z
LAST-MODIFIED:20251130T050415Z
UID:10000203-1778662800-1778682600@frescoschool.net
SUMMARY:Fresco and Sgraffito Units in session
DESCRIPTION:Fresco and Sgraffito Units in session – private class units\, to join/schedule go here or contact us
URL:https://frescoschool.net/event/fresco-and-sgraffito-units-in-session/2026-05-13/
LOCATION:Live from FS Studio\, CA\, United States
CATEGORIES:FSMembers Only
END:VEVENT
BEGIN:VEVENT
DTSTART;TZID=America/Los_Angeles:20260514T090000
DTEND;TZID=America/Los_Angeles:20260514T143000
DTSTAMP:20260425T082740
CREATED:20251105T014913Z
LAST-MODIFIED:20251130T050415Z
UID:10000272-1778749200-1778769000@frescoschool.net
SUMMARY:Fresco and Sgraffito Units in session
DESCRIPTION:Fresco and Sgraffito Units in session – private class units\, to join/schedule go here or contact us
URL:https://frescoschool.net/event/fresco-and-sgraffito-units-in-session/2026-05-14/
LOCATION:Live from FS Studio\, CA\, United States
CATEGORIES:FSMembers Only
END:VEVENT
BEGIN:VEVENT
DTSTART;TZID=America/Los_Angeles:20260517T163000
DTEND;TZID=America/Los_Angeles:20260517T173000
DTSTAMP:20260425T082740
CREATED:20260404T060126Z
LAST-MODIFIED:20260404T060126Z
UID:10000283-1779035400-1779039000@frescoschool.net
SUMMARY:Meet & Greet Livestream from Fresco School Studio – May 17\, 26
DESCRIPTION:Join iLia Fresco for Meet & Greet Livestream from Fresco School Studio via Zoom \nFormat: FOW-GA\, FOW-GA-QA\, MG-GA – Open for All\nCost: Free \n \nTOPIC:\nMeet & Greet 05-17-26\nNote from the Artist: \nWe will talk about the Fresco School our programs\, workshops\, classes. Ask questions and get familiar with our teaching system and methods. \nDescription:\nThere is no intention to make this event into a class or workshop – just a candid peek into the working artist studio. \nNOTE: Absolutely no recording of any kind by any participant (host excluded) is allowed! \nHow to Join the Meet & Greet:\nLink and access code is emailed to you with the ticket upon purchase. Cost of the ticket is 0 – “buying” ticket will just register you for the event and create an account/login. For your convenience Link to the Livestream Demo (Zoom Meeting) will also appear on this page 15 minutes prior to start\, you need to be logged in to see it. \nFormat/Ticket Levels:\nMG-GA – Meet & Greet Zoom Meeting – General Audience.\nMG-GA-FSM – Meet & Greet Zoom Meeting – FS Members\, use this ticket if you are FS Member\, once processed you will see FS Member prices for our programs. \n\nIf you are a FS Member\, but do not have an account here just yet – pick “MG-GA-FSM – Meet & Greet Zoom Meeting – FS Members” ticket – once processed you will see FS Member prices for our programs. (If you are logged in\, but still see this message – refresh the page.)
URL:https://frescoschool.net/event/meet-greet-livestream-from-fresco-school-studio-may-17-26/
LOCATION:Live from FS Studio\, CA\, United States
CATEGORIES:General Audience,Livestream Demo
ATTACH;FMTTYPE=image/jpeg:https://frescoschool.net/wp-content/uploads/2022/07/frescoschool-livestream-meet-greet-fresco-studio-web.jpg
END:VEVENT
BEGIN:VEVENT
DTSTART;TZID=America/Los_Angeles:20260519T090000
DTEND;TZID=America/Los_Angeles:20260519T143000
DTSTAMP:20260425T082740
CREATED:20251105T014913Z
LAST-MODIFIED:20251130T050415Z
UID:10000273-1779181200-1779201000@frescoschool.net
SUMMARY:Fresco and Sgraffito Units in session
DESCRIPTION:Fresco and Sgraffito Units in session – private class units\, to join/schedule go here or contact us
URL:https://frescoschool.net/event/fresco-and-sgraffito-units-in-session/2026-05-19/
LOCATION:Live from FS Studio\, CA\, United States
CATEGORIES:FSMembers Only
END:VEVENT
BEGIN:VEVENT
DTSTART;TZID=America/Los_Angeles:20260520T090000
DTEND;TZID=America/Los_Angeles:20260520T143000
DTSTAMP:20260425T082740
CREATED:20251105T014913Z
LAST-MODIFIED:20251130T050415Z
UID:10000206-1779267600-1779287400@frescoschool.net
SUMMARY:Fresco and Sgraffito Units in session
DESCRIPTION:Fresco and Sgraffito Units in session – private class units\, to join/schedule go here or contact us
URL:https://frescoschool.net/event/fresco-and-sgraffito-units-in-session/2026-05-20/
LOCATION:Live from FS Studio\, CA\, United States
CATEGORIES:FSMembers Only
END:VEVENT
BEGIN:VEVENT
DTSTART;TZID=America/Los_Angeles:20260521T090000
DTEND;TZID=America/Los_Angeles:20260521T143000
DTSTAMP:20260425T082740
CREATED:20251105T014913Z
LAST-MODIFIED:20251130T050415Z
UID:10000274-1779354000-1779373800@frescoschool.net
SUMMARY:Fresco and Sgraffito Units in session
DESCRIPTION:Fresco and Sgraffito Units in session – private class units\, to join/schedule go here or contact us
URL:https://frescoschool.net/event/fresco-and-sgraffito-units-in-session/2026-05-21/
LOCATION:Live from FS Studio\, CA\, United States
CATEGORIES:FSMembers Only
END:VEVENT
BEGIN:VEVENT
DTSTART;TZID=America/Los_Angeles:20260526T090000
DTEND;TZID=America/Los_Angeles:20260526T143000
DTSTAMP:20260425T082740
CREATED:20251105T014913Z
LAST-MODIFIED:20251130T050415Z
UID:10000275-1779786000-1779805800@frescoschool.net
SUMMARY:Fresco and Sgraffito Units in session
DESCRIPTION:Fresco and Sgraffito Units in session – private class units\, to join/schedule go here or contact us
URL:https://frescoschool.net/event/fresco-and-sgraffito-units-in-session/2026-05-26/
LOCATION:Live from FS Studio\, CA\, United States
CATEGORIES:FSMembers Only
END:VEVENT
BEGIN:VEVENT
DTSTART;TZID=America/Los_Angeles:20260527T090000
DTEND;TZID=America/Los_Angeles:20260527T143000
DTSTAMP:20260425T082740
CREATED:20251105T014913Z
LAST-MODIFIED:20251130T050415Z
UID:10000209-1779872400-1779892200@frescoschool.net
SUMMARY:Fresco and Sgraffito Units in session
DESCRIPTION:Fresco and Sgraffito Units in session – private class units\, to join/schedule go here or contact us
URL:https://frescoschool.net/event/fresco-and-sgraffito-units-in-session/2026-05-27/
LOCATION:Live from FS Studio\, CA\, United States
CATEGORIES:FSMembers Only
END:VEVENT
BEGIN:VEVENT
DTSTART;TZID=America/Los_Angeles:20260528T090000
DTEND;TZID=America/Los_Angeles:20260528T143000
DTSTAMP:20260425T082740
CREATED:20251105T014913Z
LAST-MODIFIED:20251130T050415Z
UID:10000276-1779958800-1779978600@frescoschool.net
SUMMARY:Fresco and Sgraffito Units in session
DESCRIPTION:Fresco and Sgraffito Units in session – private class units\, to join/schedule go here or contact us
URL:https://frescoschool.net/event/fresco-and-sgraffito-units-in-session/2026-05-28/
LOCATION:Live from FS Studio\, CA\, United States
CATEGORIES:FSMembers Only
END:VEVENT
BEGIN:VEVENT
DTSTART;TZID=America/Los_Angeles:20260602T090000
DTEND;TZID=America/Los_Angeles:20260602T143000
DTSTAMP:20260425T082740
CREATED:20251105T014913Z
LAST-MODIFIED:20251130T050415Z
UID:10000277-1780390800-1780410600@frescoschool.net
SUMMARY:Fresco and Sgraffito Units in session
DESCRIPTION:Fresco and Sgraffito Units in session – private class units\, to join/schedule go here or contact us
URL:https://frescoschool.net/event/fresco-and-sgraffito-units-in-session/2026-06-02/
LOCATION:Live from FS Studio\, CA\, United States
CATEGORIES:FSMembers Only
END:VEVENT
BEGIN:VEVENT
DTSTART;TZID=America/Los_Angeles:20260603T090000
DTEND;TZID=America/Los_Angeles:20260603T143000
DTSTAMP:20260425T082740
CREATED:20251105T014913Z
LAST-MODIFIED:20251130T050415Z
UID:10000212-1780477200-1780497000@frescoschool.net
SUMMARY:Fresco and Sgraffito Units in session
DESCRIPTION:Fresco and Sgraffito Units in session – private class units\, to join/schedule go here or contact us
URL:https://frescoschool.net/event/fresco-and-sgraffito-units-in-session/2026-06-03/
LOCATION:Live from FS Studio\, CA\, United States
CATEGORIES:FSMembers Only
END:VEVENT
BEGIN:VEVENT
DTSTART;TZID=America/Los_Angeles:20260604T090000
DTEND;TZID=America/Los_Angeles:20260604T143000
DTSTAMP:20260425T082740
CREATED:20251105T014913Z
LAST-MODIFIED:20251130T050415Z
UID:10000278-1780563600-1780583400@frescoschool.net
SUMMARY:Fresco and Sgraffito Units in session
DESCRIPTION:Fresco and Sgraffito Units in session – private class units\, to join/schedule go here or contact us
URL:https://frescoschool.net/event/fresco-and-sgraffito-units-in-session/2026-06-04/
LOCATION:Live from FS Studio\, CA\, United States
CATEGORIES:FSMembers Only
END:VEVENT
BEGIN:VEVENT
DTSTART;TZID=America/Los_Angeles:20260609T090000
DTEND;TZID=America/Los_Angeles:20260609T143000
DTSTAMP:20260425T082740
CREATED:20251105T014913Z
LAST-MODIFIED:20251130T050415Z
UID:10000279-1780995600-1781015400@frescoschool.net
SUMMARY:Fresco and Sgraffito Units in session
DESCRIPTION:Fresco and Sgraffito Units in session – private class units\, to join/schedule go here or contact us
URL:https://frescoschool.net/event/fresco-and-sgraffito-units-in-session/2026-06-09/
LOCATION:Live from FS Studio\, CA\, United States
CATEGORIES:FSMembers Only
END:VEVENT
BEGIN:VEVENT
DTSTART;TZID=America/Los_Angeles:20260610T090000
DTEND;TZID=America/Los_Angeles:20260610T143000
DTSTAMP:20260425T082740
CREATED:20251105T014913Z
LAST-MODIFIED:20251130T050415Z
UID:10000215-1781082000-1781101800@frescoschool.net
SUMMARY:Fresco and Sgraffito Units in session
DESCRIPTION:Fresco and Sgraffito Units in session – private class units\, to join/schedule go here or contact us
URL:https://frescoschool.net/event/fresco-and-sgraffito-units-in-session/2026-06-10/
LOCATION:Live from FS Studio\, CA\, United States
CATEGORIES:FSMembers Only
END:VEVENT
BEGIN:VEVENT
DTSTART;TZID=America/Los_Angeles:20260611T090000
DTEND;TZID=America/Los_Angeles:20260611T143000
DTSTAMP:20260425T082740
CREATED:20251105T014913Z
LAST-MODIFIED:20251130T050415Z
UID:10000280-1781168400-1781188200@frescoschool.net
SUMMARY:Fresco and Sgraffito Units in session
DESCRIPTION:Fresco and Sgraffito Units in session – private class units\, to join/schedule go here or contact us
URL:https://frescoschool.net/event/fresco-and-sgraffito-units-in-session/2026-06-11/
LOCATION:Live from FS Studio\, CA\, United States
CATEGORIES:FSMembers Only
END:VEVENT
END:VCALENDAR