BEGIN:VCALENDAR
VERSION:2.0
PRODID:-//Fresco School OnLine Apprentice ® - ECPv6.15.20//NONSGML v1.0//EN
CALSCALE:GREGORIAN
METHOD:PUBLISH
X-WR-CALNAME:Fresco School OnLine Apprentice ®
X-ORIGINAL-URL:https://frescoschool.net
X-WR-CALDESC:Events for Fresco School OnLine Apprentice ®
REFRESH-INTERVAL;VALUE=DURATION:PT1H
X-Robots-Tag:noindex
X-PUBLISHED-TTL:PT1H
BEGIN:VTIMEZONE
TZID:America/Los_Angeles
BEGIN:DAYLIGHT
TZOFFSETFROM:-0800
TZOFFSETTO:-0700
TZNAME:PDT
DTSTART:20250309T100000
END:DAYLIGHT
BEGIN:STANDARD
TZOFFSETFROM:-0700
TZOFFSETTO:-0800
TZNAME:PST
DTSTART:20251102T090000
END:STANDARD
BEGIN:DAYLIGHT
TZOFFSETFROM:-0800
TZOFFSETTO:-0700
TZNAME:PDT
DTSTART:20260308T100000
END:DAYLIGHT
BEGIN:STANDARD
TZOFFSETFROM:-0700
TZOFFSETTO:-0800
TZNAME:PST
DTSTART:20261101T090000
END:STANDARD
BEGIN:DAYLIGHT
TZOFFSETFROM:-0800
TZOFFSETTO:-0700
TZNAME:PDT
DTSTART:20270314T100000
END:DAYLIGHT
BEGIN:STANDARD
TZOFFSETFROM:-0700
TZOFFSETTO:-0800
TZNAME:PST
DTSTART:20271107T090000
END:STANDARD
END:VTIMEZONE
BEGIN:VEVENT
DTSTART;TZID=America/Los_Angeles:20260423T090000
DTEND;TZID=America/Los_Angeles:20260423T143000
DTSTAMP:20260425T095330
CREATED:20251105T014913Z
LAST-MODIFIED:20251130T050415Z
UID:10000266-1776934800-1776954600@frescoschool.net
SUMMARY:Fresco and Sgraffito Units in session
DESCRIPTION:Fresco and Sgraffito Units in session – private class units\, to join/schedule go here or contact us
URL:https://frescoschool.net/event/fresco-and-sgraffito-units-in-session/2026-04-23/
LOCATION:Live from FS Studio\, CA\, United States
CATEGORIES:FSMembers Only
END:VEVENT
BEGIN:VEVENT
DTSTART;TZID=America/Los_Angeles:20260422T090000
DTEND;TZID=America/Los_Angeles:20260422T143000
DTSTAMP:20260425T095330
CREATED:20251105T014913Z
LAST-MODIFIED:20251130T050415Z
UID:10000194-1776848400-1776868200@frescoschool.net
SUMMARY:Fresco and Sgraffito Units in session
DESCRIPTION:Fresco and Sgraffito Units in session – private class units\, to join/schedule go here or contact us
URL:https://frescoschool.net/event/fresco-and-sgraffito-units-in-session/2026-04-22/
LOCATION:Live from FS Studio\, CA\, United States
CATEGORIES:FSMembers Only
END:VEVENT
BEGIN:VEVENT
DTSTART;TZID=America/Los_Angeles:20260421T090000
DTEND;TZID=America/Los_Angeles:20260421T143000
DTSTAMP:20260425T095330
CREATED:20251105T014913Z
LAST-MODIFIED:20251130T050415Z
UID:10000265-1776762000-1776781800@frescoschool.net
SUMMARY:Fresco and Sgraffito Units in session
DESCRIPTION:Fresco and Sgraffito Units in session – private class units\, to join/schedule go here or contact us
URL:https://frescoschool.net/event/fresco-and-sgraffito-units-in-session/2026-04-21/
LOCATION:Live from FS Studio\, CA\, United States
CATEGORIES:FSMembers Only
END:VEVENT
BEGIN:VEVENT
DTSTART;TZID=America/Los_Angeles:20260419T163000
DTEND;TZID=America/Los_Angeles:20260419T173000
DTSTAMP:20260425T095330
CREATED:20260404T055436Z
LAST-MODIFIED:20260404T055436Z
UID:10000282-1776616200-1776619800@frescoschool.net
SUMMARY:Meet & Greet Livestream from Fresco School Studio – April 19\, 26
DESCRIPTION:Join iLia Fresco for Meet & Greet Livestream from Fresco School Studio via Zoom \nFormat: FOW-GA\, FOW-GA-QA\, MG-GA – Open for All\nCost: Free \n \nTOPIC:\nMeet & Greet 04-19-26\nNote from the Artist: \nWe will talk about the Fresco School our programs\, workshops\, classes. Ask questions and get familiar with our teaching system and methods. \nDescription:\nThere is no intention to make this event into a class or workshop – just a candid peek into the working artist studio. \nNOTE: Absolutely no recording of any kind by any participant (host excluded) is allowed! \nHow to Join the Meet & Greet:\nLink and access code is emailed to you with the ticket upon purchase. Cost of the ticket is 0 – “buying” ticket will just register you for the event and create an account/login. For your convenience Link to the Livestream Demo (Zoom Meeting) will also appear on this page 15 minutes prior to start\, you need to be logged in to see it. \nFormat/Ticket Levels:\nMG-GA – Meet & Greet Zoom Meeting – General Audience.\nMG-GA-FSM – Meet & Greet Zoom Meeting – FS Members\, use this ticket if you are FS Member\, once processed you will see FS Member prices for our programs. \n\nIf you are a FS Member\, but do not have an account here just yet – pick “MG-GA-FSM – Meet & Greet Zoom Meeting – FS Members” ticket – once processed you will see FS Member prices for our programs. (If you are logged in\, but still see this message – refresh the page.)
URL:https://frescoschool.net/event/meet-greet-livestream-from-fresco-school-studio-april-19-26/
LOCATION:Live from FS Studio\, CA\, United States
CATEGORIES:General Audience,Livestream Demo
ATTACH;FMTTYPE=image/jpeg:https://frescoschool.net/wp-content/uploads/2022/07/frescoschool-livestream-meet-greet-fresco-studio-web.jpg
END:VEVENT
BEGIN:VEVENT
DTSTART;TZID=America/Los_Angeles:20260416T090000
DTEND;TZID=America/Los_Angeles:20260416T143000
DTSTAMP:20260425T095330
CREATED:20251105T014913Z
LAST-MODIFIED:20251130T050415Z
UID:10000264-1776330000-1776349800@frescoschool.net
SUMMARY:Fresco and Sgraffito Units in session
DESCRIPTION:Fresco and Sgraffito Units in session – private class units\, to join/schedule go here or contact us
URL:https://frescoschool.net/event/fresco-and-sgraffito-units-in-session/2026-04-16/
LOCATION:Live from FS Studio\, CA\, United States
CATEGORIES:FSMembers Only
END:VEVENT
BEGIN:VEVENT
DTSTART;TZID=America/Los_Angeles:20260415T090000
DTEND;TZID=America/Los_Angeles:20260415T143000
DTSTAMP:20260425T095330
CREATED:20251105T014913Z
LAST-MODIFIED:20251130T050415Z
UID:10000191-1776243600-1776263400@frescoschool.net
SUMMARY:Fresco and Sgraffito Units in session
DESCRIPTION:Fresco and Sgraffito Units in session – private class units\, to join/schedule go here or contact us
URL:https://frescoschool.net/event/fresco-and-sgraffito-units-in-session/2026-04-15/
LOCATION:Live from FS Studio\, CA\, United States
CATEGORIES:FSMembers Only
END:VEVENT
BEGIN:VEVENT
DTSTART;TZID=America/Los_Angeles:20260414T090000
DTEND;TZID=America/Los_Angeles:20260414T143000
DTSTAMP:20260425T095330
CREATED:20251105T014913Z
LAST-MODIFIED:20251130T050415Z
UID:10000263-1776157200-1776177000@frescoschool.net
SUMMARY:Fresco and Sgraffito Units in session
DESCRIPTION:Fresco and Sgraffito Units in session – private class units\, to join/schedule go here or contact us
URL:https://frescoschool.net/event/fresco-and-sgraffito-units-in-session/2026-04-14/
LOCATION:Live from FS Studio\, CA\, United States
CATEGORIES:FSMembers Only
END:VEVENT
BEGIN:VEVENT
DTSTART;TZID=America/Los_Angeles:20260409T090000
DTEND;TZID=America/Los_Angeles:20260409T143000
DTSTAMP:20260425T095330
CREATED:20251105T014913Z
LAST-MODIFIED:20251130T050415Z
UID:10000262-1775725200-1775745000@frescoschool.net
SUMMARY:Fresco and Sgraffito Units in session
DESCRIPTION:Fresco and Sgraffito Units in session – private class units\, to join/schedule go here or contact us
URL:https://frescoschool.net/event/fresco-and-sgraffito-units-in-session/2026-04-09/
LOCATION:Live from FS Studio\, CA\, United States
CATEGORIES:FSMembers Only
END:VEVENT
BEGIN:VEVENT
DTSTART;TZID=America/Los_Angeles:20260408T090000
DTEND;TZID=America/Los_Angeles:20260408T143000
DTSTAMP:20260425T095330
CREATED:20251105T014913Z
LAST-MODIFIED:20251130T050415Z
UID:10000188-1775638800-1775658600@frescoschool.net
SUMMARY:Fresco and Sgraffito Units in session
DESCRIPTION:Fresco and Sgraffito Units in session – private class units\, to join/schedule go here or contact us
URL:https://frescoschool.net/event/fresco-and-sgraffito-units-in-session/2026-04-08/
LOCATION:Live from FS Studio\, CA\, United States
CATEGORIES:FSMembers Only
END:VEVENT
BEGIN:VEVENT
DTSTART;TZID=America/Los_Angeles:20260407T090000
DTEND;TZID=America/Los_Angeles:20260407T143000
DTSTAMP:20260425T095330
CREATED:20251105T014913Z
LAST-MODIFIED:20251130T050415Z
UID:10000261-1775552400-1775572200@frescoschool.net
SUMMARY:Fresco and Sgraffito Units in session
DESCRIPTION:Fresco and Sgraffito Units in session – private class units\, to join/schedule go here or contact us
URL:https://frescoschool.net/event/fresco-and-sgraffito-units-in-session/2026-04-07/
LOCATION:Live from FS Studio\, CA\, United States
CATEGORIES:FSMembers Only
END:VEVENT
BEGIN:VEVENT
DTSTART;TZID=America/Los_Angeles:20260402T090000
DTEND;TZID=America/Los_Angeles:20260402T143000
DTSTAMP:20260425T095330
CREATED:20251105T014913Z
LAST-MODIFIED:20251130T050415Z
UID:10000260-1775120400-1775140200@frescoschool.net
SUMMARY:Fresco and Sgraffito Units in session
DESCRIPTION:Fresco and Sgraffito Units in session – private class units\, to join/schedule go here or contact us
URL:https://frescoschool.net/event/fresco-and-sgraffito-units-in-session/2026-04-02/
LOCATION:Live from FS Studio\, CA\, United States
CATEGORIES:FSMembers Only
END:VEVENT
BEGIN:VEVENT
DTSTART;TZID=America/Los_Angeles:20260401T090000
DTEND;TZID=America/Los_Angeles:20260401T143000
DTSTAMP:20260425T095330
CREATED:20251105T014913Z
LAST-MODIFIED:20251130T050415Z
UID:10000185-1775034000-1775053800@frescoschool.net
SUMMARY:Fresco and Sgraffito Units in session
DESCRIPTION:Fresco and Sgraffito Units in session – private class units\, to join/schedule go here or contact us
URL:https://frescoschool.net/event/fresco-and-sgraffito-units-in-session/2026-04-01/
LOCATION:Live from FS Studio\, CA\, United States
CATEGORIES:FSMembers Only
END:VEVENT
BEGIN:VEVENT
DTSTART;TZID=America/Los_Angeles:20260331T090000
DTEND;TZID=America/Los_Angeles:20260331T143000
DTSTAMP:20260425T095330
CREATED:20251105T014913Z
LAST-MODIFIED:20251130T050415Z
UID:10000259-1774947600-1774967400@frescoschool.net
SUMMARY:Fresco and Sgraffito Units in session
DESCRIPTION:Fresco and Sgraffito Units in session – private class units\, to join/schedule go here or contact us
URL:https://frescoschool.net/event/fresco-and-sgraffito-units-in-session/2026-03-31/
LOCATION:Live from FS Studio\, CA\, United States
CATEGORIES:FSMembers Only
END:VEVENT
BEGIN:VEVENT
DTSTART;TZID=America/Los_Angeles:20260326T090000
DTEND;TZID=America/Los_Angeles:20260326T143000
DTSTAMP:20260425T095330
CREATED:20251105T014913Z
LAST-MODIFIED:20251130T050415Z
UID:10000258-1774515600-1774535400@frescoschool.net
SUMMARY:Fresco and Sgraffito Units in session
DESCRIPTION:Fresco and Sgraffito Units in session – private class units\, to join/schedule go here or contact us
URL:https://frescoschool.net/event/fresco-and-sgraffito-units-in-session/2026-03-26/
LOCATION:Live from FS Studio\, CA\, United States
CATEGORIES:FSMembers Only
END:VEVENT
BEGIN:VEVENT
DTSTART;TZID=America/Los_Angeles:20260325T090000
DTEND;TZID=America/Los_Angeles:20260325T143000
DTSTAMP:20260425T095330
CREATED:20251105T014913Z
LAST-MODIFIED:20251130T050415Z
UID:10000182-1774429200-1774449000@frescoschool.net
SUMMARY:Fresco and Sgraffito Units in session
DESCRIPTION:Fresco and Sgraffito Units in session – private class units\, to join/schedule go here or contact us
URL:https://frescoschool.net/event/fresco-and-sgraffito-units-in-session/2026-03-25/
LOCATION:Live from FS Studio\, CA\, United States
CATEGORIES:FSMembers Only
END:VEVENT
BEGIN:VEVENT
DTSTART;TZID=America/Los_Angeles:20260324T090000
DTEND;TZID=America/Los_Angeles:20260324T143000
DTSTAMP:20260425T095330
CREATED:20251105T014913Z
LAST-MODIFIED:20251130T050415Z
UID:10000257-1774342800-1774362600@frescoschool.net
SUMMARY:Fresco and Sgraffito Units in session
DESCRIPTION:Fresco and Sgraffito Units in session – private class units\, to join/schedule go here or contact us
URL:https://frescoschool.net/event/fresco-and-sgraffito-units-in-session/2026-03-24/
LOCATION:Live from FS Studio\, CA\, United States
CATEGORIES:FSMembers Only
END:VEVENT
BEGIN:VEVENT
DTSTART;TZID=America/Los_Angeles:20260319T090000
DTEND;TZID=America/Los_Angeles:20260319T143000
DTSTAMP:20260425T095330
CREATED:20251105T014913Z
LAST-MODIFIED:20251130T050415Z
UID:10000256-1773910800-1773930600@frescoschool.net
SUMMARY:Fresco and Sgraffito Units in session
DESCRIPTION:Fresco and Sgraffito Units in session – private class units\, to join/schedule go here or contact us
URL:https://frescoschool.net/event/fresco-and-sgraffito-units-in-session/2026-03-19/
LOCATION:Live from FS Studio\, CA\, United States
CATEGORIES:FSMembers Only
END:VEVENT
BEGIN:VEVENT
DTSTART;TZID=America/Los_Angeles:20260318T090000
DTEND;TZID=America/Los_Angeles:20260318T143000
DTSTAMP:20260425T095330
CREATED:20251105T014913Z
LAST-MODIFIED:20251130T050415Z
UID:10000179-1773824400-1773844200@frescoschool.net
SUMMARY:Fresco and Sgraffito Units in session
DESCRIPTION:Fresco and Sgraffito Units in session – private class units\, to join/schedule go here or contact us
URL:https://frescoschool.net/event/fresco-and-sgraffito-units-in-session/2026-03-18/
LOCATION:Live from FS Studio\, CA\, United States
CATEGORIES:FSMembers Only
END:VEVENT
BEGIN:VEVENT
DTSTART;TZID=America/Los_Angeles:20260317T090000
DTEND;TZID=America/Los_Angeles:20260317T143000
DTSTAMP:20260425T095330
CREATED:20251105T014913Z
LAST-MODIFIED:20251130T050415Z
UID:10000255-1773738000-1773757800@frescoschool.net
SUMMARY:Fresco and Sgraffito Units in session
DESCRIPTION:Fresco and Sgraffito Units in session – private class units\, to join/schedule go here or contact us
URL:https://frescoschool.net/event/fresco-and-sgraffito-units-in-session/2026-03-17/
LOCATION:Live from FS Studio\, CA\, United States
CATEGORIES:FSMembers Only
END:VEVENT
BEGIN:VEVENT
DTSTART;TZID=America/Los_Angeles:20260312T090000
DTEND;TZID=America/Los_Angeles:20260312T143000
DTSTAMP:20260425T095330
CREATED:20251105T014913Z
LAST-MODIFIED:20251130T050415Z
UID:10000254-1773306000-1773325800@frescoschool.net
SUMMARY:Fresco and Sgraffito Units in session
DESCRIPTION:Fresco and Sgraffito Units in session – private class units\, to join/schedule go here or contact us
URL:https://frescoschool.net/event/fresco-and-sgraffito-units-in-session/2026-03-12/
LOCATION:Live from FS Studio\, CA\, United States
CATEGORIES:FSMembers Only
END:VEVENT
BEGIN:VEVENT
DTSTART;TZID=America/Los_Angeles:20260311T090000
DTEND;TZID=America/Los_Angeles:20260311T143000
DTSTAMP:20260425T095330
CREATED:20251105T014913Z
LAST-MODIFIED:20251130T050415Z
UID:10000176-1773219600-1773239400@frescoschool.net
SUMMARY:Fresco and Sgraffito Units in session
DESCRIPTION:Fresco and Sgraffito Units in session – private class units\, to join/schedule go here or contact us
URL:https://frescoschool.net/event/fresco-and-sgraffito-units-in-session/2026-03-11/
LOCATION:Live from FS Studio\, CA\, United States
CATEGORIES:FSMembers Only
END:VEVENT
BEGIN:VEVENT
DTSTART;TZID=America/Los_Angeles:20260310T090000
DTEND;TZID=America/Los_Angeles:20260310T143000
DTSTAMP:20260425T095330
CREATED:20251105T014913Z
LAST-MODIFIED:20251130T050415Z
UID:10000253-1773133200-1773153000@frescoschool.net
SUMMARY:Fresco and Sgraffito Units in session
DESCRIPTION:Fresco and Sgraffito Units in session – private class units\, to join/schedule go here or contact us
URL:https://frescoschool.net/event/fresco-and-sgraffito-units-in-session/2026-03-10/
LOCATION:Live from FS Studio\, CA\, United States
CATEGORIES:FSMembers Only
END:VEVENT
BEGIN:VEVENT
DTSTART;TZID=America/Los_Angeles:20260305T090000
DTEND;TZID=America/Los_Angeles:20260305T143000
DTSTAMP:20260425T095330
CREATED:20251105T014913Z
LAST-MODIFIED:20251130T050415Z
UID:10000252-1772701200-1772721000@frescoschool.net
SUMMARY:Fresco and Sgraffito Units in session
DESCRIPTION:Fresco and Sgraffito Units in session – private class units\, to join/schedule go here or contact us
URL:https://frescoschool.net/event/fresco-and-sgraffito-units-in-session/2026-03-05/
LOCATION:Live from FS Studio\, CA\, United States
CATEGORIES:FSMembers Only
END:VEVENT
BEGIN:VEVENT
DTSTART;TZID=America/Los_Angeles:20260304T090000
DTEND;TZID=America/Los_Angeles:20260304T143000
DTSTAMP:20260425T095330
CREATED:20251105T014913Z
LAST-MODIFIED:20251130T050415Z
UID:10000173-1772614800-1772634600@frescoschool.net
SUMMARY:Fresco and Sgraffito Units in session
DESCRIPTION:Fresco and Sgraffito Units in session – private class units\, to join/schedule go here or contact us
URL:https://frescoschool.net/event/fresco-and-sgraffito-units-in-session/2026-03-04/
LOCATION:Live from FS Studio\, CA\, United States
CATEGORIES:FSMembers Only
END:VEVENT
BEGIN:VEVENT
DTSTART;TZID=America/Los_Angeles:20260303T090000
DTEND;TZID=America/Los_Angeles:20260303T143000
DTSTAMP:20260425T095330
CREATED:20251105T014913Z
LAST-MODIFIED:20251130T050415Z
UID:10000251-1772528400-1772548200@frescoschool.net
SUMMARY:Fresco and Sgraffito Units in session
DESCRIPTION:Fresco and Sgraffito Units in session – private class units\, to join/schedule go here or contact us
URL:https://frescoschool.net/event/fresco-and-sgraffito-units-in-session/2026-03-03/
LOCATION:Live from FS Studio\, CA\, United States
CATEGORIES:FSMembers Only
END:VEVENT
BEGIN:VEVENT
DTSTART;TZID=America/Los_Angeles:20260226T090000
DTEND;TZID=America/Los_Angeles:20260226T143000
DTSTAMP:20260425T095330
CREATED:20251105T014913Z
LAST-MODIFIED:20251130T050415Z
UID:10000250-1772096400-1772116200@frescoschool.net
SUMMARY:Fresco and Sgraffito Units in session
DESCRIPTION:Fresco and Sgraffito Units in session – private class units\, to join/schedule go here or contact us
URL:https://frescoschool.net/event/fresco-and-sgraffito-units-in-session/2026-02-26/
LOCATION:Live from FS Studio\, CA\, United States
CATEGORIES:FSMembers Only
END:VEVENT
BEGIN:VEVENT
DTSTART;TZID=America/Los_Angeles:20260225T090000
DTEND;TZID=America/Los_Angeles:20260225T143000
DTSTAMP:20260425T095330
CREATED:20251105T014913Z
LAST-MODIFIED:20251130T050415Z
UID:10000170-1772010000-1772029800@frescoschool.net
SUMMARY:Fresco and Sgraffito Units in session
DESCRIPTION:Fresco and Sgraffito Units in session – private class units\, to join/schedule go here or contact us
URL:https://frescoschool.net/event/fresco-and-sgraffito-units-in-session/2026-02-25/
LOCATION:Live from FS Studio\, CA\, United States
CATEGORIES:FSMembers Only
END:VEVENT
BEGIN:VEVENT
DTSTART;TZID=America/Los_Angeles:20260224T090000
DTEND;TZID=America/Los_Angeles:20260224T143000
DTSTAMP:20260425T095330
CREATED:20251105T014913Z
LAST-MODIFIED:20251130T050415Z
UID:10000249-1771923600-1771943400@frescoschool.net
SUMMARY:Fresco and Sgraffito Units in session
DESCRIPTION:Fresco and Sgraffito Units in session – private class units\, to join/schedule go here or contact us
URL:https://frescoschool.net/event/fresco-and-sgraffito-units-in-session/2026-02-24/
LOCATION:Live from FS Studio\, CA\, United States
CATEGORIES:FSMembers Only
END:VEVENT
BEGIN:VEVENT
DTSTART;TZID=America/Los_Angeles:20260219T090000
DTEND;TZID=America/Los_Angeles:20260219T143000
DTSTAMP:20260425T095330
CREATED:20251105T014913Z
LAST-MODIFIED:20251130T050415Z
UID:10000248-1771491600-1771511400@frescoschool.net
SUMMARY:Fresco and Sgraffito Units in session
DESCRIPTION:Fresco and Sgraffito Units in session – private class units\, to join/schedule go here or contact us
URL:https://frescoschool.net/event/fresco-and-sgraffito-units-in-session/2026-02-19/
LOCATION:Live from FS Studio\, CA\, United States
CATEGORIES:FSMembers Only
END:VEVENT
BEGIN:VEVENT
DTSTART;TZID=America/Los_Angeles:20260218T090000
DTEND;TZID=America/Los_Angeles:20260218T143000
DTSTAMP:20260425T095330
CREATED:20251105T014913Z
LAST-MODIFIED:20251130T050415Z
UID:10000167-1771405200-1771425000@frescoschool.net
SUMMARY:Fresco and Sgraffito Units in session
DESCRIPTION:Fresco and Sgraffito Units in session – private class units\, to join/schedule go here or contact us
URL:https://frescoschool.net/event/fresco-and-sgraffito-units-in-session/2026-02-18/
LOCATION:Live from FS Studio\, CA\, United States
CATEGORIES:FSMembers Only
END:VEVENT
END:VCALENDAR