BEGIN:VCALENDAR
VERSION:2.0
PRODID:-//Fresco School OnLine Apprentice ® - ECPv6.15.20//NONSGML v1.0//EN
CALSCALE:GREGORIAN
METHOD:PUBLISH
X-ORIGINAL-URL:https://frescoschool.net
X-WR-CALDESC:Events for Fresco School OnLine Apprentice ®
REFRESH-INTERVAL;VALUE=DURATION:PT1H
X-Robots-Tag:noindex
X-PUBLISHED-TTL:PT1H
BEGIN:VTIMEZONE
TZID:America/Los_Angeles
BEGIN:DAYLIGHT
TZOFFSETFROM:-0800
TZOFFSETTO:-0700
TZNAME:PDT
DTSTART:20210314T100000
END:DAYLIGHT
BEGIN:STANDARD
TZOFFSETFROM:-0700
TZOFFSETTO:-0800
TZNAME:PST
DTSTART:20211107T090000
END:STANDARD
BEGIN:DAYLIGHT
TZOFFSETFROM:-0800
TZOFFSETTO:-0700
TZNAME:PDT
DTSTART:20220313T100000
END:DAYLIGHT
BEGIN:STANDARD
TZOFFSETFROM:-0700
TZOFFSETTO:-0800
TZNAME:PST
DTSTART:20221106T090000
END:STANDARD
BEGIN:DAYLIGHT
TZOFFSETFROM:-0800
TZOFFSETTO:-0700
TZNAME:PDT
DTSTART:20230312T100000
END:DAYLIGHT
BEGIN:STANDARD
TZOFFSETFROM:-0700
TZOFFSETTO:-0800
TZNAME:PST
DTSTART:20231105T090000
END:STANDARD
BEGIN:DAYLIGHT
TZOFFSETFROM:-0800
TZOFFSETTO:-0700
TZNAME:PDT
DTSTART:20240310T100000
END:DAYLIGHT
BEGIN:STANDARD
TZOFFSETFROM:-0700
TZOFFSETTO:-0800
TZNAME:PST
DTSTART:20241103T090000
END:STANDARD
BEGIN:DAYLIGHT
TZOFFSETFROM:-0800
TZOFFSETTO:-0700
TZNAME:PDT
DTSTART:20250309T100000
END:DAYLIGHT
BEGIN:STANDARD
TZOFFSETFROM:-0700
TZOFFSETTO:-0800
TZNAME:PST
DTSTART:20251102T090000
END:STANDARD
BEGIN:DAYLIGHT
TZOFFSETFROM:-0800
TZOFFSETTO:-0700
TZNAME:PDT
DTSTART:20260308T100000
END:DAYLIGHT
BEGIN:STANDARD
TZOFFSETFROM:-0700
TZOFFSETTO:-0800
TZNAME:PST
DTSTART:20261101T090000
END:STANDARD
END:VTIMEZONE
BEGIN:VEVENT
DTSTART;VALUE=DATE:20251213
DTEND;VALUE=DATE:20251216
DTSTAMP:20260425T212652
CREATED:20251130T045851Z
LAST-MODIFIED:20251130T175843Z
UID:10000217-1765584000-1765843199@frescoschool.net
SUMMARY:Sgraffito Fresco on the Church Ceiling with iLia Fresco – Dec 13 – 15\, Denver CO
DESCRIPTION:This is a unique opportunity to experience fresco sgraffito installation at the actual work site – St Augustine of Hippo\, Denver CO.\niLia Fresco (Anossov) and Fr Demetrios will be carving and painting a full giornata assisted by Phil Ano who will be doing the plastering. The class will take place during actual installation and will combine student personal work and observation of actual fresco/sgraffito installation on the ceiling of the church. \n \nItinerary for the 3 day workshop (materials and tools provided) \nClass: \nDay 1 – Saturday Dec 13 – cartoon\, sgraffito advanced plaster class\nDay 2 – Sunday Dec 14 – Face & Hands Studies on ceramic tile (you can take those home)\nDay 3 – Monday Dec 15 – Open day – you can work on another fresco or deep dive into plaster \nFS Membership (learn about it here) is required and included in workshop cost – Please select GENERAL Tuition ticket \nWith questions call studio (310) 779-5079 \nFS Members please select FS MEMBER Tuition ticket
URL:https://frescoschool.net/event/sgraffito-fresco-on-the-church-ceiling-with-ilia-fresco-dev-13-15denver-co/
LOCATION:St Augustine of Hippo Church\, Denver CO\, 55 W. 3rd Ave\, Denver\, CO\, 80209\, United States
CATEGORIES:In-Person Workshops
ATTACH;FMTTYPE=image/jpeg:https://frescoschool.net/wp-content/uploads/2025/11/ilia-fresco-pointing-giornata-sgraffito-st-augustine-denver-16-9-800web.jpg
END:VEVENT
BEGIN:VEVENT
DTSTART;TZID=America/Los_Angeles:20230512T143000
DTEND;TZID=America/Los_Angeles:20230512T173000
DTSTAMP:20260425T212652
CREATED:20230512T203154Z
LAST-MODIFIED:20230512T203833Z
UID:10000089-1683901800-1683912600@frescoschool.net
SUMMARY:Livestream Demo – Panagia of the Missions Sgraffito Fresco Icon 05-12-23
DESCRIPTION:Join iLia Fresco in a Livestream Demo from the studio via Zoom! \nFormat: FOW-FSM-QA – FS Members Only\nCost: FS Member – $50\nNon Member – $375 (includes FS Membership) \nMay 12\, 2023 – Starts at 2:30 PM PST \nTOPIC:\n24×18 Panagia of the Missions Sgraffito Fresco Icon\nNote from the Artist: \nI will create a face (head and shoulders) icon in a combination of sgraffito and buon fresco on traditional style sgraffito fresco icon board. \n \nDescription:\nWatch in real time the whole process as it unfolds – can take 1 to 6 hours and may end before the work is completed. You can take a break and come back (every time you rejoin you will enter a Zoom Waiting Room and will be let in once we confirm/reconfirm your ticket). Ticket grants access to the livestream (Zoom meeting) only. \nTo keep artist from being distracted and demo becoming unreasonably long – there is no interaction available! However\, there is a Q&A with the Artist session during or immediately after the demo\, access based on the purchased ticket level. \nThere is no intention to make this event into a class or workshop – just a candid peek into the working artist studio. Created pieces are studies for the real projects – whether of the specific element within the project or a variation of the technique. \nNOTE: Absolutely no recording of any kind by any participant (host excluded) is allowed! \nHow to Join the Demo:\nLink and access code is emailed to you with the ticket upon purchase. For your convenience Link to the Livestream Demo (Zoom Meeting) will also appear on this page 15 minutes prior to start\, you need to be logged in to see it. \nFormat/Ticket Levels:\nFOW-GA – Watch fresco artist create a fresco\, sgraffito or prepare for one\, LIVE (General Audience – no interaction is possible)\nFOW-GA-QA – Watch fresco artist create a fresco\, sgraffito or prepare for one\, LIVE (Q&A at the end)\nFOW-FSM-QA – Watch fresco artist create a fresco\, sgraffito or prepare for one\, LIVE (FS Membership required – Q&A at the end) \n\nFS Members – login to pay FS Member Admission FOW-FSM-QA ticket price without FS Membership cost. (If you are logged in\, but still see this message – refresh the page.)\nIf you are a FS Member\, but do not have an account here just yet – Please Contact Us via email or phone for the coupon code.
URL:https://frescoschool.net/event/livestream-demo-panagia-of-the-missions-sgraffito-fresco-icon-05-12-23/
LOCATION:Live from FS Studio\, CA\, United States
CATEGORIES:FSMembers Only,Livestream Demo
ATTACH;FMTTYPE=image/jpeg:https://frescoschool.net/wp-content/uploads/2022/02/last-minute-livestream-fresco-sgraffito-demo-header.jpg
END:VEVENT
BEGIN:VEVENT
DTSTART;TZID=America/Los_Angeles:20220725T170000
DTEND;TZID=America/Los_Angeles:20220725T200000
DTSTAMP:20260425T212652
CREATED:20220725T222759Z
LAST-MODIFIED:20220806T072443Z
UID:10000071-1658768400-1658779200@frescoschool.net
SUMMARY:Livestream Demo – St Innocent Sgraffito Fresco Face Icon Study 07-25-22
DESCRIPTION:Join iLia Fresco in a Livestream Demo from the studio via Zoom! \nFormat: FOW-FSM-QA – FS Members Only\nCost: FS Member – $50\nNon Member – $375 (includes FS Membership) \nJuly 25\, 2022 – Starts at 4:30 PM PST \nTOPIC:\n24×18 St Innocent Sgraffito Fresco Face Icon Study\nNote from the Artist: \nI will create a face (head and shoulders) icon study for a wall fresco of St. Innocent in a combination of sgraffito and buon fresco. \nThis Livestream has ended! \n\nView Recording in HD at FrescoTV.com\n  \nDescription:\nWatch in real time the whole process as it unfolds – can take 1 to 6 hours and may end before the work is completed. You can take a break and come back (every time you rejoin you will enter a Zoom Waiting Room and will be let in once we confirm/reconfirm your ticket). Ticket grants access to the livestream (Zoom meeting) only. \nTo keep artist from being distracted and demo becoming unreasonably long – there is no interaction available! However\, there is a Q&A with the Artist session during or immediately after the demo\, access based on the purchased ticket level. \nThere is no intention to make this event into a class or workshop – just a candid peek into the working artist studio. Created pieces are studies for the real projects – whether of the specific element within the project or a variation of the technique. \nNOTE: Absolutely no recording of any kind by any participant (host excluded) is allowed! \nHow to Join the Demo:\nLink and access code is emailed to you with the ticket upon purchase. For your convenience Link to the Livestream Demo (Zoom Meeting) will also appear on this page 15 minutes prior to start\, you need to be logged in to see it. \nFormat/Ticket Levels:\nFOW-GA – Watch fresco artist create a fresco\, sgraffito or prepare for one\, LIVE (General Audience – no interaction is possible)\nFOW-GA-QA – Watch fresco artist create a fresco\, sgraffito or prepare for one\, LIVE (Q&A at the end)\nFOW-FSM-QA – Watch fresco artist create a fresco\, sgraffito or prepare for one\, LIVE (FS Membership required – Q&A at the end) \n\nFS Members – login to pay FS Member Admission FOW-FSM-QA ticket price without FS Membership cost. (If you are logged in\, but still see this message – refresh the page.)\nIf you are a FS Member\, but do not have an account here just yet – Please Contact Us via email or phone for the coupon code.
URL:https://frescoschool.net/event/livestream-demo-st-innocent-sgraffito-fresco-face-icon-study-07-25-22/
LOCATION:Live from FS Studio\, CA\, United States
CATEGORIES:FSMembers Only,Livestream Demo
ATTACH;FMTTYPE=image/jpeg:https://frescoschool.net/wp-content/uploads/2022/02/last-minute-livestream-fresco-sgraffito-demo-header.jpg
END:VEVENT
BEGIN:VEVENT
DTSTART;TZID=America/Los_Angeles:20220224T213000
DTEND;TZID=America/Los_Angeles:20220224T233000
DTSTAMP:20260425T212652
CREATED:20220225T044601Z
LAST-MODIFIED:20220806T071920Z
UID:10000053-1645738200-1645745400@frescoschool.net
SUMMARY:Livestream Demo – Creating Prayer Pavilion Iconography 3d Visualization 02-24-22
DESCRIPTION:Join iLia Fresco in a Livestream Demo from the studio via Zoom \nFormat: FOW-GA\, FOW-GA-QA – Open for All\nCost: Promotional – $30  \nFebruary 24\, 2022 – Starts at 9:30 PM PST\nThis Livestream has ended! \n\nView Recording in HD at FrescoTV.com\n  \nTOPIC:\nLivestream Demo – Creating Prayer Pavilion Iconography 3d Visualization 02-24-22\nNote from the Artist: \nI will create a concept layout for Prayer Pavilion Iconography 3d Visualization using SketchUp model. (This is a “last minute” livestream posting – to get notified about those in real time Subscribe to our Calendar!) \nDescription:\nWatch in real time the whole process as it unfolds – can take 1 to 6 hours and may end before the work is completed. You can take a break and come back (every time you rejoin you will enter a Zoom Waiting Room and will be let in once we confirm/reconfirm your ticket). Ticket grants access to the livestream (Zoom meeting) only. \nTo keep artist from being distracted and demo becoming unreasonably long – there is no interaction available! However\, there is a Q&A with the Artist session during or immediately after the demo\, access based on the purchased ticket level. \nThere is no intention to make this event into a class or workshop – just a candid peek into the working artist studio. Created pieces are studies for the real projects – whether of the specific element within the project or a variation of the technique. \nNOTE: Absolutely no recording of any kind by any participant (host excluded) is allowed! \nHow to Join the Demo:\nLink and access code is emailed to you with the ticket upon purchase. For your convenience Link to the Livestream Demo (Zoom Meeting) will also appear on this page 15 minutes prior to start\, you need to be logged in to see it. \nFormat/Ticket Levels:\nFOW-GA – Watch fresco artist create a fresco\, sgraffito or prepare for one\, LIVE (General Audience – no interaction is possible)\nFOW-GA-QA – Watch fresco artist create a fresco\, sgraffito or prepare for one\, LIVE (Q&A at the end)\nFOW-FSM-QA – Watch fresco artist create a fresco\, sgraffito or prepare for one\, LIVE (FS Membership required – Q&A at the end) \n\nFS Members – login to pay FS Member Admission FOW-FSM-QA ticket price without FS Membership cost. (If you are logged in\, but still see this message – refresh the page.)\nIf you are a FS Member\, but do not have an account here just yet – Please Contact Us via email or phone for the coupon code.
URL:https://frescoschool.net/event/creating-prayer-pavilion-iconography-3d-visualization-02-24-22/
LOCATION:Live from FS Studio\, CA\, United States
CATEGORIES:General Audience,Livestream Demo
ATTACH;FMTTYPE=image/jpeg:https://frescoschool.net/wp-content/uploads/2022/02/last-minute-livestream-fresco-sgraffito-demo-header.jpg
END:VEVENT
BEGIN:VEVENT
DTSTART;TZID=America/Los_Angeles:20220221T210000
DTEND;TZID=America/Los_Angeles:20220221T233000
DTSTAMP:20260425T212652
CREATED:20220222T025701Z
LAST-MODIFIED:20220725T224816Z
UID:10000054-1645477200-1645486200@frescoschool.net
SUMMARY:Livestream Demo – Creating 3d Model for Prayer Pavilion Iconography Visualization 02-21-22
DESCRIPTION:Join iLia Fresco in a Livestream Demo from the studio via Zoom \nFormat: FOW-GA\, FOW-GA-QA – Open for All\nCost: Promotional – $30  \nFebruary 21\, 2022 – Starts at 9:00 PM PST\nThis Livestream has ended! \n\nView Recording in HD at FrescoTV.com\n  \nTOPIC:\nLivestream Demo – Creating 3d Model for Prayer Pavilion Iconography Visualization 02-21-22\nNote from the Artist: \nI will create Livestream Demo – Creating 3d Model for Project Mexico Prayer Pavilion Iconography Visualization using SketchUp. (This is a “last minute” livestream posting – to get notified about those in real time Subscribe to our Calendar!) \nDescription:\nWatch in real time the whole process as it unfolds – can take 1 to 6 hours and may end before the work is completed. You can take a break and come back (every time you rejoin you will enter a Zoom Waiting Room and will be let in once we confirm/reconfirm your ticket). Ticket grants access to the livestream (Zoom meeting) only. \nTo keep artist from being distracted and demo becoming unreasonably long – there is no interaction available! However\, there is a Q&A with the Artist session during or immediately after the demo\, access based on the purchased ticket level. \nThere is no intention to make this event into a class or workshop – just a candid peek into the working artist studio. Created pieces are studies for the real projects – whether of the specific element within the project or a variation of the technique. \nNOTE: Absolutely no recording of any kind by any participant (host excluded) is allowed! \nHow to Join the Demo:\nLink and access code is emailed to you with the ticket upon purchase. For your convenience Link to the Livestream Demo (Zoom Meeting) will also appear on this page 15 minutes prior to start\, you need to be logged in to see it. \nFormat/Ticket Levels:\nFOW-GA – Watch fresco artist create a fresco\, sgraffito or prepare for one\, LIVE (General Audience – no interaction is possible)\nFOW-GA-QA – Watch fresco artist create a fresco\, sgraffito or prepare for one\, LIVE (Q&A at the end)\nFOW-FSM-QA – Watch fresco artist create a fresco\, sgraffito or prepare for one\, LIVE (FS Membership required – Q&A at the end) \n\nFS Members – login to pay FS Member Admission FOW-FSM-QA ticket price without FS Membership cost. (If you are logged in\, but still see this message – refresh the page.)\nIf you are a FS Member\, but do not have an account here just yet – Please Contact Us via email or phone for the coupon code.
URL:https://frescoschool.net/event/livestream-demo-creating-3d-model-for-prayer-pavilion-iconography-visualization-02-21-22/
LOCATION:Live from FS Studio\, CA\, United States
CATEGORIES:General Audience,Livestream Demo
ATTACH;FMTTYPE=image/jpeg:https://frescoschool.net/wp-content/uploads/2022/02/last-minute-livestream-fresco-sgraffito-demo-header.jpg
END:VEVENT
END:VCALENDAR